BEGIN:VCALENDAR
VERSION:2.0
PRODID:-//Volkskunstschule des Erzgebirgskreises - ECPv6.15.20//NONSGML v1.0//EN
CALSCALE:GREGORIAN
METHOD:PUBLISH
X-ORIGINAL-URL:https://www.volkskunstschule-erz.de
X-WR-CALDESC:Veranstaltungen für Volkskunstschule des Erzgebirgskreises
REFRESH-INTERVAL;VALUE=DURATION:PT1H
X-Robots-Tag:noindex
X-PUBLISHED-TTL:PT1H
BEGIN:VTIMEZONE
TZID:Europe/Berlin
BEGIN:DAYLIGHT
TZOFFSETFROM:+0100
TZOFFSETTO:+0200
TZNAME:CEST
DTSTART:20240331T010000
END:DAYLIGHT
BEGIN:STANDARD
TZOFFSETFROM:+0200
TZOFFSETTO:+0100
TZNAME:CET
DTSTART:20241027T010000
END:STANDARD
BEGIN:DAYLIGHT
TZOFFSETFROM:+0100
TZOFFSETTO:+0200
TZNAME:CEST
DTSTART:20250330T010000
END:DAYLIGHT
BEGIN:STANDARD
TZOFFSETFROM:+0200
TZOFFSETTO:+0100
TZNAME:CET
DTSTART:20251026T010000
END:STANDARD
BEGIN:DAYLIGHT
TZOFFSETFROM:+0100
TZOFFSETTO:+0200
TZNAME:CEST
DTSTART:20260329T010000
END:DAYLIGHT
BEGIN:STANDARD
TZOFFSETFROM:+0200
TZOFFSETTO:+0100
TZNAME:CET
DTSTART:20261025T010000
END:STANDARD
END:VTIMEZONE
BEGIN:VEVENT
DTSTART;TZID=Europe/Berlin:20251121T130000
DTEND;TZID=Europe/Berlin:20251122T160000
DTSTAMP:20260426T012517
CREATED:20240729T143731Z
LAST-MODIFIED:20250123T101333Z
UID:2428-1763730000-1763827200@www.volkskunstschule-erz.de
SUMMARY:Workshop "Verschiedene Techniken im Weihnachtsschmuck - von historisch bis abstrakt" - ausgebucht -
DESCRIPTION:21. November 2025\, 13 – 18 Uhr & 22. November 2025\, 10 – 16 Uhr  \nDiesmal befassen wir uns mit verschiedenen Techniken\, die man beim Klöppeln von Weihnachtsschmuck anwenden kann. Von historisch bis abstrakt. Dies ist ein zweitägiger Workshop\, eine Teilnahme an beiden Tagen ist erforderlich. Zum Schluss erhält jeder Teilnehmer ein Zertifikat. \nPreis: 70\,00 Euro \nAnmeldung unter Tel.: 03774 17 86 73  oder über Kontaktformular ist erforderlich! \nLinks\n\nKontaktformular/Anmeldung\nUnterkunftsverzeichnis der Stadt Schwarzenberg
URL:https://www.volkskunstschule-erz.de/event/workshop-verschiedene-techniken-im-weihnachtsschmuck-von-historisch-bis-abstrakt-auf-anfrage/
LOCATION:Klöppelschule in Zschorlau\, Friedensstr. 1\, Zschorlau\, 08321 \, Deutschland
CATEGORIES:Klöppeln
ATTACH;FMTTYPE=image/jpeg:https://www.volkskunstschule-erz.de/inhalde/uploads/2024/07/verschiedene-Techniken-low.jpg
END:VEVENT
BEGIN:VEVENT
DTSTART;TZID=Europe/Berlin:20251121T130000
DTEND;TZID=Europe/Berlin:20251122T160000
DTSTAMP:20260426T012517
CREATED:20250123T101404Z
LAST-MODIFIED:20250218T145029Z
UID:2663-1763730000-1763827200@www.volkskunstschule-erz.de
SUMMARY:Workshop "Verschiedene Techniken im Weihnachtsschmuck - von historisch bis abstrakt" - auf Anfrage -
DESCRIPTION:21. November 2025\, 13 – 18 Uhr & 22. November 2025\, 10 – 16 Uhr  \nDiesmal befassen wir uns mit verschiedenen Techniken\, die man beim Klöppeln von Weihnachtsschmuck anwenden kann. Von historisch bis abstrakt. Dies ist ein zweitägiger Workshop\, eine Teilnahme an beiden Tagen ist erforderlich. Zum Schluss erhält jeder Teilnehmer ein Zertifikat. \nPreis: 70\,00 Euro \nAnmeldung unter Tel.: 03774 17 86 73\, E-Mail: volkskunstschule.erz@t-online.de oder Kontaktformular \nLinks\n\nKontaktformular/Anmeldung\nUnterkunftsverzeichnis der Stadt Schwarzenberg
URL:https://www.volkskunstschule-erz.de/event/workshop-verschiedene-techniken-im-weihnachtsschmuck-von-historisch-bis-abstrakt-auf-anfrage-3/
LOCATION:Klöppelschule im Schloss Schwarzenberg\, Obere Schloßstraße 36\, Schwarzenberg/Erzgebirge\, 08340\, Deutschland
CATEGORIES:Klöppeln
ATTACH;FMTTYPE=image/jpeg:https://www.volkskunstschule-erz.de/inhalde/uploads/2024/07/verschiedene-Techniken-low.jpg
END:VEVENT
END:VCALENDAR