BEGIN:VCALENDAR
VERSION:2.0
PRODID:-//Volkskunstschule des Erzgebirgskreises - ECPv6.15.20//NONSGML v1.0//EN
CALSCALE:GREGORIAN
METHOD:PUBLISH
X-ORIGINAL-URL:https://www.volkskunstschule-erz.de
X-WR-CALDESC:Veranstaltungen für Volkskunstschule des Erzgebirgskreises
REFRESH-INTERVAL;VALUE=DURATION:PT1H
X-Robots-Tag:noindex
X-PUBLISHED-TTL:PT1H
BEGIN:VTIMEZONE
TZID:Europe/Berlin
BEGIN:DAYLIGHT
TZOFFSETFROM:+0100
TZOFFSETTO:+0200
TZNAME:CEST
DTSTART:20250330T010000
END:DAYLIGHT
BEGIN:STANDARD
TZOFFSETFROM:+0200
TZOFFSETTO:+0100
TZNAME:CET
DTSTART:20251026T010000
END:STANDARD
BEGIN:DAYLIGHT
TZOFFSETFROM:+0100
TZOFFSETTO:+0200
TZNAME:CEST
DTSTART:20260329T010000
END:DAYLIGHT
BEGIN:STANDARD
TZOFFSETFROM:+0200
TZOFFSETTO:+0100
TZNAME:CET
DTSTART:20261025T010000
END:STANDARD
BEGIN:DAYLIGHT
TZOFFSETFROM:+0100
TZOFFSETTO:+0200
TZNAME:CEST
DTSTART:20270328T010000
END:DAYLIGHT
BEGIN:STANDARD
TZOFFSETFROM:+0200
TZOFFSETTO:+0100
TZNAME:CET
DTSTART:20271031T010000
END:STANDARD
END:VTIMEZONE
BEGIN:VEVENT
DTSTART;TZID=Europe/Berlin:20260227T130000
DTEND;TZID=Europe/Berlin:20260228T160000
DTSTAMP:20260425T203520
CREATED:20250221T152706Z
LAST-MODIFIED:20250221T152706Z
UID:2728-1772197200-1772294400@www.volkskunstschule-erz.de
SUMMARY:Workshop „Kreative Filzobjekte - mit Fantasie ins Blumenreich“
DESCRIPTION:27. Februar 2026\, 13 – 18 Uhr & 28. November 2026\, 10 – 16 Uhr \n\n\n\nDiesmal befassen wir uns in unserem Workshop mit dem Nass- und Trockenfilzen zum Thema „Kreative Filzobjekte – mit Fantasie ins Blumenreich“. Betreuung erfolgt individuell nach Kenntnisstand. \nPreis: 70\,00 Euro \n\n\n\nAnmeldung unter Tel.: 03774 17 86 73  oder über Kontaktformular ist erforderlich! \nLinks\n\nKontaktformular/Anmeldung\nUnterkunftsverzeichnis der Stadt Schwarzenberg
URL:https://www.volkskunstschule-erz.de/event/workshop-kreative-filzobjekte-mit-fantasie-ins-blumenreich/
LOCATION:Volkskunstschule Schloss Schwarzenberg\, Obere Schloßstr. 36\, Schwarzenberg\, 08340\, Deutschland
CATEGORIES:Filzen
ATTACH;FMTTYPE=image/jpeg:https://www.volkskunstschule-erz.de/inhalde/uploads/2024/12/Filzen-DSC_1889-F-web.jpg
END:VEVENT
END:VCALENDAR