BEGIN:VCALENDAR
VERSION:2.0
PRODID:-//Volkskunstschule des Erzgebirgskreises - ECPv6.15.20//NONSGML v1.0//EN
CALSCALE:GREGORIAN
METHOD:PUBLISH
X-WR-CALNAME:Volkskunstschule des Erzgebirgskreises
X-ORIGINAL-URL:https://www.volkskunstschule-erz.de
X-WR-CALDESC:Veranstaltungen für Volkskunstschule des Erzgebirgskreises
REFRESH-INTERVAL;VALUE=DURATION:PT1H
X-Robots-Tag:noindex
X-PUBLISHED-TTL:PT1H
BEGIN:VTIMEZONE
TZID:Europe/Berlin
BEGIN:DAYLIGHT
TZOFFSETFROM:+0100
TZOFFSETTO:+0200
TZNAME:CEST
DTSTART:20260329T010000
END:DAYLIGHT
BEGIN:STANDARD
TZOFFSETFROM:+0200
TZOFFSETTO:+0100
TZNAME:CET
DTSTART:20261025T010000
END:STANDARD
BEGIN:DAYLIGHT
TZOFFSETFROM:+0100
TZOFFSETTO:+0200
TZNAME:CEST
DTSTART:20270328T010000
END:DAYLIGHT
BEGIN:STANDARD
TZOFFSETFROM:+0200
TZOFFSETTO:+0100
TZNAME:CET
DTSTART:20271031T010000
END:STANDARD
BEGIN:DAYLIGHT
TZOFFSETFROM:+0100
TZOFFSETTO:+0200
TZNAME:CEST
DTSTART:20280326T010000
END:DAYLIGHT
BEGIN:STANDARD
TZOFFSETFROM:+0200
TZOFFSETTO:+0100
TZNAME:CET
DTSTART:20281029T010000
END:STANDARD
END:VTIMEZONE
BEGIN:VEVENT
DTSTART;TZID=Europe/Berlin:20270305T130000
DTEND;TZID=Europe/Berlin:20270306T160000
DTSTAMP:20260426T050633
CREATED:20250623T122635Z
LAST-MODIFIED:20250623T122635Z
UID:2902-1804251600-1804348800@www.volkskunstschule-erz.de
SUMMARY:Workshop "Frühblüher"
DESCRIPTION:5. März 2027\, 13 – 18 Uhr & 6. März 2027\, 10 – 16 Uhr  \nDiesmal befassen wir uns mit dem Klöppeln von „Frühblühern“ in 3D-Technik. Dies ist ein zweitägiger Workshop für Fortgeschrittene\, eine Teilnahme an beiden Tagen ist erforderlich. Zum Schluss erhält jeder Teilnehmer ein Zertifikat. \nPreis: 80\,00 Euro \nAnmeldung unter Tel.: 03774 178673  oder über Kontaktformular ist erforderlich! \nLinks\n\n\n\nKontaktformular/Anmeldung\nUnterkunftsverzeichnis der Stadt Schwarzenberg
URL:https://www.volkskunstschule-erz.de/event/workshop-fruehblueher/
LOCATION:Klöppelschule im Schloss Schwarzenberg\, Obere Schloßstraße 36\, Schwarzenberg/Erzgebirge\, 08340\, Deutschland
CATEGORIES:Klöppeln
ATTACH;FMTTYPE=image/jpeg:https://www.volkskunstschule-erz.de/inhalde/uploads/2025/06/Fruehblueher-FB_IMG_web-.jpg
END:VEVENT
BEGIN:VEVENT
DTSTART;TZID=Europe/Berlin:20270305T130000
DTEND;TZID=Europe/Berlin:20270306T160000
DTSTAMP:20260426T050633
CREATED:20250623T133755Z
LAST-MODIFIED:20250623T133809Z
UID:2925-1804251600-1804348800@www.volkskunstschule-erz.de
SUMMARY:Workshop „Gesicht“
DESCRIPTION:5. März 2027\, 13 – 18 Uhr & 6. März 2027\, 10 – 16 Uhr \n\n\n\nDiesmal befassen wir uns in unserem Workshop für Fortgeschrittene mit dem Schnitzen von Gesichtern. Betreuung erfolgt individuell nach Kenntnisstand. \nPreis: 70\,00 Euro \n\n\n\nAnmeldung unter Tel.: 03774 178673  oder über Kontaktformular ist erforderlich! \nLinks\n\nKontaktformular/Anmeldung\nUnterkunftsverzeichnis der Stadt Schwarzenberg
URL:https://www.volkskunstschule-erz.de/event/workshop-gesicht/
LOCATION:Schnitzschule im Schloss Schwarzenberg\, Obere Schloßstraße 36\, Schwarzenberg\, 08340\, Deutschland
CATEGORIES:Schnitzen
ATTACH;FMTTYPE=image/jpeg:https://www.volkskunstschule-erz.de/inhalde/uploads/2025/06/Gesicht-DSC_7546-web.jpg
END:VEVENT
BEGIN:VEVENT
DTSTART;TZID=Europe/Berlin:20270320T090000
DTEND;TZID=Europe/Berlin:20270320T170000
DTSTAMP:20260426T050633
CREATED:20250630T133521Z
LAST-MODIFIED:20250630T133841Z
UID:2938-1805533200-1805562000@www.volkskunstschule-erz.de
SUMMARY:Workshop „Osterei“
DESCRIPTION:20. März 2027\, 9.00 – 17.00 Uhr  \n\n\n\nDiesmal befassen wir uns in unserem Workshop mit dem Nass- und Trockenfilzen zum Thema „Osterei“\, Ostergeschenke in letzter Minute! Betreuung erfolgt individuell nach Kenntnisstand. \nPreis: 70\,00 Euro + Material \n\n\n\nAnmeldung unter Tel.: 03774 178673  oder über Kontaktformular ist erforderlich! \nLinks\n\nKontaktformular/Anmeldung\nUnterkunftsverzeichnis der Stadt Schwarzenberg
URL:https://www.volkskunstschule-erz.de/event/workshop-osterei/
LOCATION:Volkskunstschule Schloss Schwarzenberg\, Obere Schloßstr. 36\, Schwarzenberg\, 08340\, Deutschland
CATEGORIES:Filzen
ATTACH;FMTTYPE=image/jpeg:https://www.volkskunstschule-erz.de/inhalde/uploads/2025/06/Schaf-Filzen-web.jpg
END:VEVENT
END:VCALENDAR